BEGIN:VCALENDAR
VERSION:2.0
PRODID:-//Rat River Recreation - ECPv6.15.16.1//NONSGML v1.0//EN
CALSCALE:GREGORIAN
METHOD:PUBLISH
X-WR-CALNAME:Rat River Recreation
X-ORIGINAL-URL:https://ratriverrecreation.ca
X-WR-CALDESC:Events for Rat River Recreation
REFRESH-INTERVAL;VALUE=DURATION:PT1H
X-Robots-Tag:noindex
X-PUBLISHED-TTL:PT1H
BEGIN:VTIMEZONE
TZID:UTC
BEGIN:STANDARD
TZOFFSETFROM:+0000
TZOFFSETTO:+0000
TZNAME:UTC
DTSTART:20230101T000000
END:STANDARD
END:VTIMEZONE
BEGIN:VEVENT
DTSTART;TZID=UTC:20241016T100000
DTEND;TZID=UTC:20241016T113000
DTSTAMP:20260424T065422
CREATED:20241012T022926Z
LAST-MODIFIED:20241012T022926Z
UID:10001092-1729072800-1729078200@ratriverrecreation.ca
SUMMARY:Fall Toddler Shenanigans
DESCRIPTION:Join us for our 2024/25 program of Toddler Shenanigans! \nHelkp your child(ren) get ‘school-ready’ with hands-on crafts and learning opportunities! \nRequired age: Under 6 years old on the day of the activity \nNotes: Parents and/or caregivers must be in attendance.
URL:https://ratriverrecreation.ca/event/fall-toddler-shenanigans/
LOCATION:YFC St. Pierre\, 508 Hébert Ave\, St. Pierre\, Manitoba\, Canada
CATEGORIES:Creative,Programs
ATTACH;FMTTYPE=image/png:https://ratriverrecreation.ca/wp-content/uploads/2024/10/Fall-Toddler.png
ORGANIZER;CN="Rat River Recreation Commission":MAILTO:info@ratriverrecreation.com
END:VEVENT
END:VCALENDAR