BEGIN:VCALENDAR
VERSION:2.0
PRODID:-//Rat River Recreation - ECPv6.15.16.1//NONSGML v1.0//EN
CALSCALE:GREGORIAN
METHOD:PUBLISH
X-WR-CALNAME:Rat River Recreation
X-ORIGINAL-URL:https://ratriverrecreation.ca
X-WR-CALDESC:Events for Rat River Recreation
REFRESH-INTERVAL;VALUE=DURATION:PT1H
X-Robots-Tag:noindex
X-PUBLISHED-TTL:PT1H
BEGIN:VTIMEZONE
TZID:UTC
BEGIN:STANDARD
TZOFFSETFROM:+0000
TZOFFSETTO:+0000
TZNAME:UTC
DTSTART:20230101T000000
END:STANDARD
END:VTIMEZONE
BEGIN:VEVENT
DTSTART;TZID=UTC:20241119T180000
DTEND;TZID=UTC:20241119T191500
DTSTAMP:20260419T115556
CREATED:20241011T231639Z
LAST-MODIFIED:20241012T015750Z
UID:10000658-1732039200-1732043700@ratriverrecreation.ca
SUMMARY:Kids in the Kitchen St Pierre
DESCRIPTION:Join us for this 6 week course teaching kids how to cook and bake\, while gaining confidence in the kitchen!! \nThis hands-on learning experience will teach about nuritious and delicious recipes! \nRequired age: 7 – 13 years old on the day of the activity
URL:https://ratriverrecreation.ca/event/kids-in-the-kitchen-st-pierre/2024-11-19/
LOCATION:St. Pierre Bible Fellowship Church\, Lavoie Ave\, St Pierre-Jolys\, Manitoba\, R0A 1V0\, Canada
CATEGORIES:Education,Programs
ATTACH;FMTTYPE=image/png:https://ratriverrecreation.ca/wp-content/uploads/2024/10/Kids-in-the-Kitchen-St.-Pierre.png
ORGANIZER;CN="Rat River Recreation Commission":MAILTO:info@ratriverrecreation.com
END:VEVENT
BEGIN:VEVENT
DTSTART;TZID=UTC:20241112T180000
DTEND;TZID=UTC:20241112T191500
DTSTAMP:20260419T115556
CREATED:20241011T231639Z
LAST-MODIFIED:20241012T015750Z
UID:10000657-1731434400-1731438900@ratriverrecreation.ca
SUMMARY:Kids in the Kitchen St Pierre
DESCRIPTION:Join us for this 6 week course teaching kids how to cook and bake\, while gaining confidence in the kitchen!! \nThis hands-on learning experience will teach about nuritious and delicious recipes! \nRequired age: 7 – 13 years old on the day of the activity
URL:https://ratriverrecreation.ca/event/kids-in-the-kitchen-st-pierre/2024-11-12/
LOCATION:St. Pierre Bible Fellowship Church\, Lavoie Ave\, St Pierre-Jolys\, Manitoba\, R0A 1V0\, Canada
CATEGORIES:Education,Programs
ATTACH;FMTTYPE=image/png:https://ratriverrecreation.ca/wp-content/uploads/2024/10/Kids-in-the-Kitchen-St.-Pierre.png
ORGANIZER;CN="Rat River Recreation Commission":MAILTO:info@ratriverrecreation.com
END:VEVENT
BEGIN:VEVENT
DTSTART;TZID=UTC:20241105T180000
DTEND;TZID=UTC:20241105T191500
DTSTAMP:20260419T115556
CREATED:20241011T231639Z
LAST-MODIFIED:20241012T015750Z
UID:10000656-1730829600-1730834100@ratriverrecreation.ca
SUMMARY:Kids in the Kitchen St Pierre
DESCRIPTION:Join us for this 6 week course teaching kids how to cook and bake\, while gaining confidence in the kitchen!! \nThis hands-on learning experience will teach about nuritious and delicious recipes! \nRequired age: 7 – 13 years old on the day of the activity
URL:https://ratriverrecreation.ca/event/kids-in-the-kitchen-st-pierre/2024-11-05/
LOCATION:St. Pierre Bible Fellowship Church\, Lavoie Ave\, St Pierre-Jolys\, Manitoba\, R0A 1V0\, Canada
CATEGORIES:Education,Programs
ATTACH;FMTTYPE=image/png:https://ratriverrecreation.ca/wp-content/uploads/2024/10/Kids-in-the-Kitchen-St.-Pierre.png
ORGANIZER;CN="Rat River Recreation Commission":MAILTO:info@ratriverrecreation.com
END:VEVENT
BEGIN:VEVENT
DTSTART;TZID=UTC:20241029T180000
DTEND;TZID=UTC:20241029T191500
DTSTAMP:20260419T115556
CREATED:20241011T231639Z
LAST-MODIFIED:20241012T015750Z
UID:10000655-1730224800-1730229300@ratriverrecreation.ca
SUMMARY:Kids in the Kitchen St Pierre
DESCRIPTION:Join us for this 6 week course teaching kids how to cook and bake\, while gaining confidence in the kitchen!! \nThis hands-on learning experience will teach about nuritious and delicious recipes! \nRequired age: 7 – 13 years old on the day of the activity
URL:https://ratriverrecreation.ca/event/kids-in-the-kitchen-st-pierre/2024-10-29/
LOCATION:St. Pierre Bible Fellowship Church\, Lavoie Ave\, St Pierre-Jolys\, Manitoba\, R0A 1V0\, Canada
CATEGORIES:Education,Programs
ATTACH;FMTTYPE=image/png:https://ratriverrecreation.ca/wp-content/uploads/2024/10/Kids-in-the-Kitchen-St.-Pierre.png
ORGANIZER;CN="Rat River Recreation Commission":MAILTO:info@ratriverrecreation.com
END:VEVENT
BEGIN:VEVENT
DTSTART;TZID=UTC:20241022T180000
DTEND;TZID=UTC:20241022T191500
DTSTAMP:20260419T115556
CREATED:20241011T231639Z
LAST-MODIFIED:20241012T015750Z
UID:10000654-1729620000-1729624500@ratriverrecreation.ca
SUMMARY:Kids in the Kitchen St Pierre
DESCRIPTION:Join us for this 6 week course teaching kids how to cook and bake\, while gaining confidence in the kitchen!! \nThis hands-on learning experience will teach about nuritious and delicious recipes! \nRequired age: 7 – 13 years old on the day of the activity
URL:https://ratriverrecreation.ca/event/kids-in-the-kitchen-st-pierre/2024-10-22/
LOCATION:St. Pierre Bible Fellowship Church\, Lavoie Ave\, St Pierre-Jolys\, Manitoba\, R0A 1V0\, Canada
CATEGORIES:Education,Programs
ATTACH;FMTTYPE=image/png:https://ratriverrecreation.ca/wp-content/uploads/2024/10/Kids-in-the-Kitchen-St.-Pierre.png
ORGANIZER;CN="Rat River Recreation Commission":MAILTO:info@ratriverrecreation.com
END:VEVENT
BEGIN:VEVENT
DTSTART;TZID=UTC:20241015T180000
DTEND;TZID=UTC:20241015T191500
DTSTAMP:20260419T115556
CREATED:20241011T231639Z
LAST-MODIFIED:20241012T015750Z
UID:10000653-1729015200-1729019700@ratriverrecreation.ca
SUMMARY:Kids in the Kitchen St Pierre
DESCRIPTION:Join us for this 6 week course teaching kids how to cook and bake\, while gaining confidence in the kitchen!! \nThis hands-on learning experience will teach about nuritious and delicious recipes! \nRequired age: 7 – 13 years old on the day of the activity
URL:https://ratriverrecreation.ca/event/kids-in-the-kitchen-st-pierre/2024-10-15/
LOCATION:St. Pierre Bible Fellowship Church\, Lavoie Ave\, St Pierre-Jolys\, Manitoba\, R0A 1V0\, Canada
CATEGORIES:Education,Programs
ATTACH;FMTTYPE=image/png:https://ratriverrecreation.ca/wp-content/uploads/2024/10/Kids-in-the-Kitchen-St.-Pierre.png
ORGANIZER;CN="Rat River Recreation Commission":MAILTO:info@ratriverrecreation.com
END:VEVENT
END:VCALENDAR